BEGIN:VCALENDAR
VERSION:2.0
PRODID:-//jEvents 2.0 for Joomla//EN
CALSCALE:GREGORIAN
METHOD:PUBLISH
BEGIN:VTIMEZONE
TZID:Europe/Berlin
END:VTIMEZONE
BEGIN:VEVENT
UID:2a8cef829be267cb309019a5f9c39d15
CATEGORIES:Terminliste
CREATED:20250130T140849
SUMMARY:Anrudern 
DESCRIPTION;ENCODING=QUOTED-PRINTABLE:<p>Anrudern s. Aushang&nbsp;</p>
DTSTAMP:20260422T131541Z
DTSTART;TZID=Europe/Berlin;VALUE=DATE:20250412
DTEND;TZID=Europe/Berlin;VALUE=DATE:20250413
SEQUENCE:0
TRANSP:OPAQUE
END:VEVENT
END:VCALENDAR