BEGIN:VCALENDAR
VERSION:2.0
PRODID:-//jEvents 2.0 for Joomla//EN
CALSCALE:GREGORIAN
METHOD:PUBLISH
BEGIN:VTIMEZONE
TZID:Europe/Berlin
END:VTIMEZONE
BEGIN:VEVENT
UID:648d30024cef81f5e77c4579c36992d5
CATEGORIES:Terminliste
CREATED:20221216T124633
SUMMARY:Anrudern
DESCRIPTION;ENCODING=QUOTED-PRINTABLE:<p>Aushang beachten&nbsp;</p>
DTSTAMP:20260421T030958Z
DTSTART;TZID=Europe/Berlin;VALUE=DATE:20230416
DTEND;TZID=Europe/Berlin;VALUE=DATE:20230417
SEQUENCE:0
TRANSP:OPAQUE
END:VEVENT
END:VCALENDAR